BEGIN:VCALENDAR
VERSION:2.0
PRODID:-//wp-events-plugin.com//7.2.3.1//EN
TZID:Europe/London
X-WR-TIMEZONE:Europe/London
BEGIN:VEVENT
UID:0-2@blogs.qub.ac.uk
DTSTART;TZID=Europe/London:20240501T160000
DTEND;TZID=Europe/London:20240501T183000
DTSTAMP:20240501T073451Z
URL:https://blogs.qub.ac.uk/eutopiafilmfest/events/eaff-cultural-bridge-sp
 ecial-section-screening/
SUMMARY:EAFF Cultural Bridge Special Section Screening
DESCRIPTION:Screening Location（Hybrid）\n\n 	Physical Location:\n 	Queen
 's Film Theatre-Film Studio\n 	20 University Square\, Belfast BT7 1PA\n 	O
 nline Screening (Private): https://youtu.be/_K0VQ27ojlo\n 	This event is f
 ree and open to the public\, please click on the below button for registra
 tion.\n\n\nScreening Introduction\nThe Eutopia Arthouse Film Festival (EAF
 F) is a non-profit international film exhibition focused on fostering arti
 stic exchange and development among young filmmakers. EAFF is organized by
  the Queen’s University Belfast\, and funded by the 2024 Queen’s Annua
 l Fund.\n\nAs a cultural bridge between East Asia and Europe\, the East As
 ia Film Festival (EAFF) introduces the 'Cultural Bridge' special section t
 his year. This section presents films that depict the cultural\, artistic\
 , and societal aspects of East Asia\, aiming to promote dialogue\, exchang
 e\, and integration between Eastern and Western artistic cultures. This ye
 ar\, six films reflecting East Asian culture have been selected for screen
 ing at the film festival. Additionally\, Dr. Liang Wang from Queen's langu
 age centre will give us an opening introduction\, and the EAFF team member
 s and the film directors will have a round-table discussion on East Asian 
 films.\n\n[gallery size="full" ids="553\,555\,551\,557\,556\,554"]\n\n
ATTACH;FMTTYPE=image/jpeg:https://blogs.qub.ac.uk/eutopiafilmfest/wp-conte
 nt/uploads/sites/27/2024/03/WechatIMG4693-e1712361105497.jpeg
CATEGORIES:EAFF SCREENING
END:VEVENT
BEGIN:VTIMEZONE
TZID:Europe/London
X-LIC-LOCATION:Europe/London
BEGIN:DAYLIGHT
DTSTART:20240331T020000
TZOFFSETFROM:+0000
TZOFFSETTO:+0100
TZNAME:BST
END:DAYLIGHT
END:VTIMEZONE
END:VCALENDAR