BEGIN:VCALENDAR
VERSION:2.0
PRODID:-//wp-events-plugin.com//7.2.3.1//EN
TZID:Europe/London
X-WR-TIMEZONE:Europe/London
BEGIN:VEVENT
UID:0-6@blogs.qub.ac.uk
DTSTART;TZID=Europe/London:20240501T120000
DTEND;TZID=Europe/London:20240501T150000
DTSTAMP:20240430T143032Z
URL:https://blogs.qub.ac.uk/eutopiafilmfest/events/eaff-01-05-afternoon-sc
 reening/
SUMMARY:EAFF 01/05 Afternoon Screening
DESCRIPTION:Screening Location\n\n 	Queen's Film Theatre\n 	20 University S
 quare\, Belfast BT7 1PA\n 	This event is free and open to the public\, ple
 ase click on the below button for registration.\n\nEvent Time Details:\n\n
 11:50am\n\nAudience register\n\n12:00pm-12:10pm\n\nIntroduction by three E
 AFF Team Members\n\n12:10pm-14:50pm\n\nFilm Screening\n\n14:50pm-15:00pm\n
 \nQ&amp\;A of Two Film Directors\n\nScreening Introduction\nThe Eutopia Ar
 thouse Film Festival (EAFF) is a non-profit international film exhibition 
 focused on fostering artistic exchange and development among young filmmak
 ers. EAFF is organized by the Queen’s University Belfast\, and funded by
  the 2024 Queen’s Annual Fund. We have selected 9 films for the 01/05 Af
 ternoon Screening.\n\nThe selected films encompass various genres\, emotio
 ns\, and themes. From touching family stories to aspirations for world pea
 ce\, from delicate emotional expressions to profound explorations of human
  nature\, these infinitely creative works will take you through different 
 scenarios\, evoking inner resonance and contemplation.\n\n\n\n\n\n\n\n\n
ATTACH;FMTTYPE=image/jpeg:https://blogs.qub.ac.uk/eutopiafilmfest/wp-conte
 nt/uploads/sites/27/2024/04/-e1712789028528.png
CATEGORIES:EAFF SCREENING
END:VEVENT
BEGIN:VTIMEZONE
TZID:Europe/London
X-LIC-LOCATION:Europe/London
BEGIN:DAYLIGHT
DTSTART:20240331T020000
TZOFFSETFROM:+0000
TZOFFSETTO:+0100
TZNAME:BST
END:DAYLIGHT
END:VTIMEZONE
END:VCALENDAR