BEGIN:VCALENDAR
VERSION:2.0
PRODID:-//Queen&#039;s DigiHub - ECPv6.15.18//NONSGML v1.0//EN
CALSCALE:GREGORIAN
METHOD:PUBLISH
X-ORIGINAL-URL:https://blogs.qub.ac.uk/digitallearning
X-WR-CALDESC:Events for Queen&#039;s DigiHub
REFRESH-INTERVAL;VALUE=DURATION:PT1H
X-Robots-Tag:noindex
X-PUBLISHED-TTL:PT1H
BEGIN:VTIMEZONE
TZID:Europe/London
BEGIN:DAYLIGHT
TZOFFSETFROM:+0000
TZOFFSETTO:+0100
TZNAME:BST
DTSTART:20250330T010000
END:DAYLIGHT
BEGIN:STANDARD
TZOFFSETFROM:+0100
TZOFFSETTO:+0000
TZNAME:GMT
DTSTART:20251026T010000
END:STANDARD
BEGIN:DAYLIGHT
TZOFFSETFROM:+0000
TZOFFSETTO:+0100
TZNAME:BST
DTSTART:20260329T010000
END:DAYLIGHT
BEGIN:STANDARD
TZOFFSETFROM:+0100
TZOFFSETTO:+0000
TZNAME:GMT
DTSTART:20261025T010000
END:STANDARD
BEGIN:DAYLIGHT
TZOFFSETFROM:+0000
TZOFFSETTO:+0100
TZNAME:BST
DTSTART:20270328T010000
END:DAYLIGHT
BEGIN:STANDARD
TZOFFSETFROM:+0100
TZOFFSETTO:+0000
TZNAME:GMT
DTSTART:20271031T010000
END:STANDARD
END:VTIMEZONE
BEGIN:VEVENT
DTSTART;TZID=Europe/London:20260422T110000
DTEND;TZID=Europe/London:20260422T123000
DTSTAMP:20260419T171409
CREATED:20260416T104333Z
LAST-MODIFIED:20260416T105457Z
UID:10000956-1776855600-1776861000@blogs.qub.ac.uk
SUMMARY:Virtual Reality: An Introduction to VR for Teaching and Learning
DESCRIPTION:Ready to bring a new dimension to your teaching? Join our interactive 90-minute session and discover how virtual reality can transform your teaching\, workshops and staff development! \nThis hands-on introduction is your gateway to using Meta Quest 3 headsets to create highly engaging learning experiences. You will explore how immersive environments can powerfully support rehearsal\, feedback and reflection. \nUsing the Bodyswaps App as a practical example\, you’ll see firsthand exactly how VR can add real value to your subject area. \nNo previous VR experience is required to take part. \n  \nAccess on iTrent
URL:https://blogs.qub.ac.uk/digitallearning/event/virtual-reality-an-introduction-to-vr/
LOCATION:69 – 71 University Street Room 0G/007a
CATEGORIES:Digital Skills Training
ATTACH;FMTTYPE=image/jpeg:https://blogs.qub.ac.uk/digitallearning/wp-content/uploads/sites/7/2026/04/VR.jpg
END:VEVENT
END:VCALENDAR