BEGIN:VCALENDAR
VERSION:2.0
PRODID:-//Queen&#039;s DigiHub - ECPv6.15.18//NONSGML v1.0//EN
CALSCALE:GREGORIAN
METHOD:PUBLISH
X-WR-CALNAME:Queen&#039;s DigiHub
X-ORIGINAL-URL:https://blogs.qub.ac.uk/digitallearning
X-WR-CALDESC:Events for Queen&#039;s DigiHub
REFRESH-INTERVAL;VALUE=DURATION:PT1H
X-Robots-Tag:noindex
X-PUBLISHED-TTL:PT1H
BEGIN:VTIMEZONE
TZID:Europe/London
BEGIN:DAYLIGHT
TZOFFSETFROM:+0000
TZOFFSETTO:+0100
TZNAME:BST
DTSTART:20250330T010000
END:DAYLIGHT
BEGIN:STANDARD
TZOFFSETFROM:+0100
TZOFFSETTO:+0000
TZNAME:GMT
DTSTART:20251026T010000
END:STANDARD
BEGIN:DAYLIGHT
TZOFFSETFROM:+0000
TZOFFSETTO:+0100
TZNAME:BST
DTSTART:20260329T010000
END:DAYLIGHT
BEGIN:STANDARD
TZOFFSETFROM:+0100
TZOFFSETTO:+0000
TZNAME:GMT
DTSTART:20261025T010000
END:STANDARD
BEGIN:DAYLIGHT
TZOFFSETFROM:+0000
TZOFFSETTO:+0100
TZNAME:BST
DTSTART:20270328T010000
END:DAYLIGHT
BEGIN:STANDARD
TZOFFSETFROM:+0100
TZOFFSETTO:+0000
TZNAME:GMT
DTSTART:20271031T010000
END:STANDARD
END:VTIMEZONE
BEGIN:VEVENT
DTSTART;TZID=Europe/London:20260213T093000
DTEND;TZID=Europe/London:20260213T103000
DTSTAMP:20260426T044939
CREATED:20250924T072209Z
LAST-MODIFIED:20260205T141941Z
UID:10000943-1770975000-1770978600@blogs.qub.ac.uk
SUMMARY:Further Power BI
DESCRIPTION:Power BI is Microsoft’s business intelligence (BI) solution for visualising and sharing data. Power BI enables you to quickly develop interactive reports and dashboards and share impactful visualisations with others. \n  \nAccess on iTrent
URL:https://blogs.qub.ac.uk/digitallearning/event/further-power-bi-2/
LOCATION:Microsoft Teams
CATEGORIES:Microsoft 365 Training
ATTACH;FMTTYPE=image/jpeg:https://blogs.qub.ac.uk/digitallearning/wp-content/uploads/sites/7/2022/12/Power-BI.jpg
END:VEVENT
END:VCALENDAR