BEGIN:VCALENDAR
VERSION:2.0
PRODID:-//Queen&#039;s DigiHub - ECPv6.15.18//NONSGML v1.0//EN
CALSCALE:GREGORIAN
METHOD:PUBLISH
X-WR-CALNAME:Queen&#039;s DigiHub
X-ORIGINAL-URL:https://blogs.qub.ac.uk/digitallearning
X-WR-CALDESC:Events for Queen&#039;s DigiHub
REFRESH-INTERVAL;VALUE=DURATION:PT1H
X-Robots-Tag:noindex
X-PUBLISHED-TTL:PT1H
BEGIN:VTIMEZONE
TZID:Europe/London
BEGIN:DAYLIGHT
TZOFFSETFROM:+0000
TZOFFSETTO:+0100
TZNAME:BST
DTSTART:20240331T010000
END:DAYLIGHT
BEGIN:STANDARD
TZOFFSETFROM:+0100
TZOFFSETTO:+0000
TZNAME:GMT
DTSTART:20241027T010000
END:STANDARD
BEGIN:DAYLIGHT
TZOFFSETFROM:+0000
TZOFFSETTO:+0100
TZNAME:BST
DTSTART:20250330T010000
END:DAYLIGHT
BEGIN:STANDARD
TZOFFSETFROM:+0100
TZOFFSETTO:+0000
TZNAME:GMT
DTSTART:20251026T010000
END:STANDARD
BEGIN:DAYLIGHT
TZOFFSETFROM:+0000
TZOFFSETTO:+0100
TZNAME:BST
DTSTART:20260329T010000
END:DAYLIGHT
BEGIN:STANDARD
TZOFFSETFROM:+0100
TZOFFSETTO:+0000
TZNAME:GMT
DTSTART:20261025T010000
END:STANDARD
END:VTIMEZONE
BEGIN:VEVENT
DTSTART;TZID=Europe/London:20251030T093000
DTEND;TZID=Europe/London:20251030T103000
DTSTAMP:20260426T001914
CREATED:20240501T105728Z
LAST-MODIFIED:20250923T143053Z
UID:10000857-1761816600-1761820200@blogs.qub.ac.uk
SUMMARY:Excel: Get and Transform
DESCRIPTION:“Power Query and Power Pivot aka Get and Transform are the best thing to happen to Excel in 20 years”. Bill Jelen\, Excel MVP \nHow long would it take you to combine data from 15 workbooks into a single data set? A few minutes\, an hour? If you’re using Get & Transform (previously known as Power Query)\, you could combine the data from all the workbooks in a few clicks. With Get & Transform\, you can add data from almost any source e.g. files\, folders\, databases\, web pages\, organise and transform it and incorporate it in your reports. \nAimed at: As this is an advanced course previous attendance at Introduction to PivotTables or a working knowledge of creating pivot tables is recommended. \n  \nAccess on iTrent
URL:https://blogs.qub.ac.uk/digitallearning/event/excel-get-and-transform/
LOCATION:Microsoft Teams
CATEGORIES:Data,Microsoft 365 Training
ATTACH;FMTTYPE=image/jpeg:https://blogs.qub.ac.uk/digitallearning/wp-content/uploads/sites/7/2022/10/Excel.jpg
END:VEVENT
BEGIN:VEVENT
DTSTART;TZID=Europe/London:20251021T093000
DTEND;TZID=Europe/London:20251021T103000
DTSTAMP:20260426T001914
CREATED:20240917T093153Z
LAST-MODIFIED:20250923T142933Z
UID:10000898-1761039000-1761042600@blogs.qub.ac.uk
SUMMARY:Excel: Creating Charts
DESCRIPTION:This specialised course looks at the improved charting feature in Excel 2007 and discusses some of the different types of charts that can be created\, in particular\, line\, scatter\, pie\, bar and column charts. It also covers how to edit scientific or statistical charts to include features such as secondary axes and error bars and how to format charts\, both manually and by using the new chart styles available in Excel 2010. Participants will be able to practise creating and formatting different types of charts by completing a series of exercises and will also learn how to set the default chart type and how to create a chart template. \nAimed at: Staff who wish to learn more about displaying data graphically and those interested in taking the ECDL Advanced module in Spreadsheets. \nPrerequisites: Previous attendance at Excel 1: Essentials or a similar level of experience of using Excel 2010. \n  \nAccess on iTrent
URL:https://blogs.qub.ac.uk/digitallearning/event/excel-creating-charts/
LOCATION:Microsoft Teams
CATEGORIES:Data,Microsoft 365 Training
ATTACH;FMTTYPE=image/jpeg:https://blogs.qub.ac.uk/digitallearning/wp-content/uploads/sites/7/2022/10/Excel.jpg
END:VEVENT
BEGIN:VEVENT
DTSTART;TZID=Europe/London:20251014T093000
DTEND;TZID=Europe/London:20251014T103000
DTSTAMP:20260426T001914
CREATED:20240917T083504Z
LAST-MODIFIED:20250924T072144Z
UID:10000888-1760434200-1760437800@blogs.qub.ac.uk
SUMMARY:Further Power BI
DESCRIPTION:Power BI is Microsoft’s business intelligence (BI) solution for visualising and sharing data. Power BI enables you to quickly develop interactive reports and dashboards and share impactful visualisations with others. \n  \nAccess on iTrent
URL:https://blogs.qub.ac.uk/digitallearning/event/further-power-bi/
LOCATION:Microsoft Teams
CATEGORIES:Microsoft 365 Training
ATTACH;FMTTYPE=image/jpeg:https://blogs.qub.ac.uk/digitallearning/wp-content/uploads/sites/7/2022/12/Power-BI.jpg
END:VEVENT
BEGIN:VEVENT
DTSTART;TZID=Europe/London:20251007T093000
DTEND;TZID=Europe/London:20251007T103000
DTSTAMP:20260426T001914
CREATED:20240917T073520Z
LAST-MODIFIED:20250924T072039Z
UID:10000886-1759829400-1759833000@blogs.qub.ac.uk
SUMMARY:Introduction to Power BI
DESCRIPTION:Power BI is Microsoft’s business intelligence (BI) solution for visualising and sharing data. Power BI enables you to quickly develop interactive reports and dashboards and share impactful visualisations with others. \nCourse objectives: \n\nWhat is Power BI?\nPower BI Desktop\nPower BI service\nImporting Files\nCreating interactive visualisations\nReports and Dashboards\nRow-Level Security\nSharing reports and dashboards\n\n  \nAccess on iTrent
URL:https://blogs.qub.ac.uk/digitallearning/event/introduction-to-power-bi/
LOCATION:Microsoft Teams
CATEGORIES:Data,Microsoft 365 Training
ATTACH;FMTTYPE=image/jpeg:https://blogs.qub.ac.uk/digitallearning/wp-content/uploads/sites/7/2022/12/Power-BI.jpg
END:VEVENT
BEGIN:VEVENT
DTSTART;TZID=Europe/London:20250924T100000
DTEND;TZID=Europe/London:20250924T120000
DTSTAMP:20260426T001914
CREATED:20250821T135946Z
LAST-MODIFIED:20250821T135946Z
UID:10000932-1758708000-1758715200@blogs.qub.ac.uk
SUMMARY:AI Lightning Talks
DESCRIPTION:AI is transforming education\, and the impact is already being felt across teaching\, learning\, research\, and student support. \nThis online session will showcase a series of short\, engaging examples of how staff across the university are already putting AI into practice. From innovative approaches in learning and teaching\, to enhancing the student experience and support\, to creating resources\, improving accessibility\, and advancing research\, you’ll hear practical\, real-world insights that can inspire your own work. \nWhy attend? \n\nHear directly from colleagues across the university about how AI is making a difference in their areas.\nExplore practical\, transferable examples you can adapt to your own context.\nLearn more about the support\, training\, and resources available to staff.\nJoin the discussion on opportunities\, challenges\, and responsible use of AI in higher education.\n\nWho is it for? \nThis event is open to academic and professional support staff from across the university. No prior knowledge of AI is required\, just an interest in learning\, exploring\, and sharing ideas. \nJoin us for a morning of short talks\, inspiration\, and discussion about the future of AI in education. \nRegister on iTrent
URL:https://blogs.qub.ac.uk/digitallearning/event/ai-lightning-talks/
LOCATION:Microsoft Teams
CATEGORIES:Artificial Intelligence
ATTACH;FMTTYPE=image/jpeg:https://blogs.qub.ac.uk/digitallearning/wp-content/uploads/sites/7/2024/04/AI-Lunchtime-Bytes.jpg
ORGANIZER;CN="VLE Team":MAILTO:elearning@qub.ac.uk
END:VEVENT
BEGIN:VEVENT
DTSTART;TZID=Europe/London:20250902T110000
DTEND;TZID=Europe/London:20250902T123000
DTSTAMP:20260426T001914
CREATED:20250115T094234Z
LAST-MODIFIED:20250808T111200Z
UID:10000921-1756810800-1756816200@blogs.qub.ac.uk
SUMMARY:Panopto - Using in QUB Teaching Spaces
DESCRIPTION:Panopto Video Capture: In-Person Training \nAudience: Academic and support staff delivering sessions or teaching in on-campus lecture theatres and teaching spaces. \nWhat’s covered: This practical session introduces the basics of using Panopto for lecture capture in Queen’s University Belfast teaching spaces. \nAgenda: \n\nOverview of room equipment.\nPreparing your desktop for teaching.\nRecording and managing sessions with Panopto.\nInteractive Q&A and hands-on demonstrations.\n\nIdeal for staff new to Panopto or those seeking a refresher on using the system effectively. \n  \nAccess on iTrent
URL:https://blogs.qub.ac.uk/digitallearning/event/panopto-using-in-qub-teaching-spaces/
LOCATION:Microsoft Teams
CATEGORIES:Digital Tools
ATTACH;FMTTYPE=image/jpeg:https://blogs.qub.ac.uk/digitallearning/wp-content/uploads/sites/7/2024/03/Panopto-1.jpg
END:VEVENT
END:VCALENDAR