BEGIN:VCALENDAR
VERSION:2.0
PRODID:-//Queen&#039;s DigiHub - ECPv6.15.18//NONSGML v1.0//EN
CALSCALE:GREGORIAN
METHOD:PUBLISH
X-WR-CALNAME:Queen&#039;s DigiHub
X-ORIGINAL-URL:https://blogs.qub.ac.uk/digitallearning
X-WR-CALDESC:Events for Queen&#039;s DigiHub
REFRESH-INTERVAL;VALUE=DURATION:PT1H
X-Robots-Tag:noindex
X-PUBLISHED-TTL:PT1H
BEGIN:VTIMEZONE
TZID:Europe/London
BEGIN:DAYLIGHT
TZOFFSETFROM:+0000
TZOFFSETTO:+0100
TZNAME:BST
DTSTART:20250330T010000
END:DAYLIGHT
BEGIN:STANDARD
TZOFFSETFROM:+0100
TZOFFSETTO:+0000
TZNAME:GMT
DTSTART:20251026T010000
END:STANDARD
BEGIN:DAYLIGHT
TZOFFSETFROM:+0000
TZOFFSETTO:+0100
TZNAME:BST
DTSTART:20260329T010000
END:DAYLIGHT
BEGIN:STANDARD
TZOFFSETFROM:+0100
TZOFFSETTO:+0000
TZNAME:GMT
DTSTART:20261025T010000
END:STANDARD
BEGIN:DAYLIGHT
TZOFFSETFROM:+0000
TZOFFSETTO:+0100
TZNAME:BST
DTSTART:20270328T010000
END:DAYLIGHT
BEGIN:STANDARD
TZOFFSETFROM:+0100
TZOFFSETTO:+0000
TZNAME:GMT
DTSTART:20271031T010000
END:STANDARD
END:VTIMEZONE
BEGIN:VEVENT
DTSTART;TZID=Europe/London:20260512T103000
DTEND;TZID=Europe/London:20260512T113000
DTSTAMP:20260426T033212
CREATED:20240919T142916Z
LAST-MODIFIED:20260416T102424Z
UID:10000901-1778581800-1778585400@blogs.qub.ac.uk
SUMMARY:Build a SharePoint Online Site using Web Parts
DESCRIPTION:A SharePoint business/communication site allows you to share news\, reports\, status\, and other information in a visually compelling format. \nWhen you add a modern page to a site\, you add and customize web parts. This course will provide some working examples of Share Point Online Communication sites and how you can build your site by adding pages and using apps/web parts to customize and enhance the visual appearance of your site\, by adding text\, images\, files\, video\, dynamic content\, and more using various web parts. \n  \nAccess on iTrent
URL:https://blogs.qub.ac.uk/digitallearning/event/build-a-sharepoint-online-site-using-web-parts/
LOCATION:Microsoft Teams
CATEGORIES:Microsoft 365 Training
ATTACH;FMTTYPE=image/jpeg:https://blogs.qub.ac.uk/digitallearning/wp-content/uploads/sites/7/2022/10/Sharepoint.jpg
END:VEVENT
END:VCALENDAR